BEGIN:VCALENDAR
VERSION:2.0
PRODID:-//Library Market//iCal Export//EN
BEGIN:VEVENT
SUMMARY:Wilfred M. Silvia Library Trust Board of Trustees Meeting
UID:6538
DTSTAMP:20260424T235200Z
DTSTART:20260520T130000Z
DTEND:20260520T160000Z
LOCATION:102 North Main Street, 2nd Floor, Middleborough, MA 02346, United
  States
ROOM: Wilfred M. Silvia Library Trust Room (2nd Floor)
DESCRIPTION:The purpose of this meeting is to discuss matters related to t
 he Wilfred M. Silvia Library Trust.
URL:https://calendar.midlib.org/event/wilfred-m-silvia-library-trust-board
 -trustees-meeting-6538
END:VEVENT
END:VCALENDAR
