BEGIN:VCALENDAR
VERSION:2.0
PRODID:-//Library Market//iCal Export//EN
BEGIN:VEVENT
SUMMARY:Middleboro Retiree&#039;s Insurance Group
UID:6560
DTSTAMP:20260425T001100Z
DTSTART:20260528T171500Z
DTEND:20260528T184500Z
LOCATION:102 North Main Street, 2nd Floor, Middleborough, MA 02346, United
  States
ROOM: Wilfred M. Silvia Library Trust Room (2nd Floor)
DESCRIPTION:Organizational meeting for the coming year. Membership newslet
 ter.
URL:https://calendar.midlib.org/event/middleboro-retirees-insurance-group-
 6560
END:VEVENT
END:VCALENDAR
